BEGIN:VCALENDAR
VERSION:2.0
PRODID:-//Sabre//Sabre VObject 4.5.8//EN
CALSCALE:GREGORIAN
BEGIN:VEVENT
UID:criticalmass-one-dortmund-1558112400
DTSTAMP:20260424T063021Z
SUMMARY:Critical Mass Dortmund 17.05.2019
DTSTART;TZID=Europe/Berlin:20190517T190000
DTEND;TZID=Europe/Berlin:20190517T210000
LOCATION:Friedensplatz
GEO:51.511272;7.466393
URL;VALUE=URI:https://criticalmass.in/dortmund/2019-05-17
END:VEVENT
END:VCALENDAR
