BEGIN:VCALENDAR
VERSION:2.0
PRODID:-//Sabre//Sabre VObject 4.5.8//EN
CALSCALE:GREGORIAN
BEGIN:VEVENT
UID:criticalmass-one-dortmund-1497632400
DTSTAMP:20260423T172647Z
SUMMARY:Critical Mass Dortmund 16.06.2017 (113)
DTSTART;TZID=Europe/Berlin:20170616T190000
DTEND;TZID=Europe/Berlin:20170616T210000
LOCATION:Friedensplatz
GEO:51.511272;7.466393
URL;VALUE=URI:https://criticalmass.in/dortmund/2017-06-16
END:VEVENT
END:VCALENDAR
