BEGIN:VCALENDAR
VERSION:2.0
PRODID:-//Sabre//Sabre VObject 4.5.8//EN
CALSCALE:GREGORIAN
BEGIN:VEVENT
UID:criticalmass-one-dortmund-1399726800
DTSTAMP:20260423T100037Z
SUMMARY:Critical Mass Dortmund 10.05.2014
DTSTART;TZID=Europe/Berlin:20140510T150000
DTEND;TZID=Europe/Berlin:20140510T170000
LOCATION:Friedensplatz
GEO:51.511272;7.466393
URL;VALUE=URI:https://criticalmass.in/dortmund/2014-05-10
END:VEVENT
END:VCALENDAR
