BEGIN:VCALENDAR
VERSION:2.0
PRODID:-//Sabre//Sabre VObject 4.5.8//EN
CALSCALE:GREGORIAN
BEGIN:VEVENT
UID:criticalmass-one-ditzingen-1747573200
DTSTAMP:20260422T163547Z
SUMMARY:Kidical Mass Ditzingen 18.05.2025
DESCRIPTION:Auftakt ab 14 Uhr mit Räder schmücken\, Spielecke und Gesprä
 chen
DTSTART;TZID=Europe/Berlin:20250518T150000
DTEND;TZID=Europe/Berlin:20250518T170000
LOCATION:Ditzingen Am Laien\, zw. Rathaus und Treffpunkt Adler
GEO:48.826052;9.066307
URL;VALUE=URI:https://criticalmass.in/ditzingen/kidical-mass-ditzingen-mai-
 2025
END:VEVENT
END:VCALENDAR
