BEGIN:VCALENDAR
VERSION:2.0
PRODID:-//Sabre//Sabre VObject 4.5.8//EN
CALSCALE:GREGORIAN
BEGIN:VEVENT
UID:criticalmass-one-diepholz-1748440800
DTSTAMP:20260423T154842Z
SUMMARY:Kidical Mass Diepholz 28.05.2025
DESCRIPTION:Kinder\, Jugendliche\, Eltern\, Großeltern\, Jung und Alt\, al
 le sind eingeladen. Alle kleinen und großen Radfahrenden machen mit diese
 r bunten Fahrraddemo darauf aufmerksam\, dass es ein Grundrecht ist\, sich
  sicher\, selbständig und ohne Angst fortbewegen zu können.\nGut gesiche
 rt geht es ca. 4 km quer durch die Stadt zum Kinder- und Fahrradfest auf d
 em Rathausmarkt. Auf die Kinder wartet dort ein Mitmachkonzert mit Heiner 
 Rusche\, dem Musiker für Kinder.
DTSTART;TZID=Europe/Berlin:20250528T160000
DTEND;TZID=Europe/Berlin:20250528T180000
LOCATION:Diepholz Grundschule an der Hindenburgstraße
GEO:52.610133;8.372273
URL;VALUE=URI:https://criticalmass.in/diepholz/kidical-mass-diepholz-mai-20
 25
END:VEVENT
END:VCALENDAR
