BEGIN:VCALENDAR
VERSION:2.0
PRODID:-//Sabre//Sabre VObject 4.5.8//EN
CALSCALE:GREGORIAN
BEGIN:VEVENT
UID:criticalmass-one-detmold-1631970000
DTSTAMP:20260423T133853Z
SUMMARY:Kidical Mass Detmold 18.09.2021
DTSTART;TZID=Europe/Berlin:20210918T150000
DTEND;TZID=Europe/Berlin:20210918T170000
LOCATION:Landestheater
GEO:51.937969;8.879042
URL;VALUE=URI:https://criticalmass.in/detmold/kidical-mass-detmold-septembe
 r-2021
END:VEVENT
END:VCALENDAR
