BEGIN:VCALENDAR
VERSION:2.0
PRODID:-//Sabre//Sabre VObject 4.5.8//EN
CALSCALE:GREGORIAN
BEGIN:VEVENT
UID:criticalmass-one-detmold-1772283600
DTSTAMP:20260423T084239Z
SUMMARY:Critical Mass Detmold 28.02.2026
DTSTART;TZID=Europe/Berlin:20260228T140000
DTEND;TZID=Europe/Berlin:20260228T160000
LOCATION:Theater
GEO:51.937254;8.878713
URL;VALUE=URI:https://criticalmass.in/detmold/2026-02-28
END:VEVENT
END:VCALENDAR
