BEGIN:VCALENDAR
VERSION:2.0
PRODID:-//Sabre//Sabre VObject 4.5.8//EN
CALSCALE:GREGORIAN
BEGIN:VEVENT
UID:criticalmass-one-detmold-1761393600
DTSTAMP:20260423T034517Z
SUMMARY:Critical Mass Detmold 25.10.2025
DTSTART;TZID=Europe/Berlin:20251025T140000
DTEND;TZID=Europe/Berlin:20251025T160000
LOCATION:Theater
GEO:51.937254;8.878713
URL;VALUE=URI:https://criticalmass.in/detmold/2025-10-25
END:VEVENT
END:VCALENDAR
