BEGIN:VCALENDAR
VERSION:2.0
PRODID:-//Sabre//Sabre VObject 4.5.8//EN
CALSCALE:GREGORIAN
BEGIN:VEVENT
UID:criticalmass-one-detmold-1753531200
DTSTAMP:20260423T035458Z
SUMMARY:Critical Mass Detmold 26.07.2025
DTSTART;TZID=Europe/Berlin:20250726T140000
DTEND;TZID=Europe/Berlin:20250726T160000
LOCATION:Theater
GEO:51.937254;8.878713
URL;VALUE=URI:https://criticalmass.in/detmold/2025-07-26
END:VEVENT
END:VCALENDAR
