BEGIN:VCALENDAR
VERSION:2.0
PRODID:-//Sabre//Sabre VObject 4.5.8//EN
CALSCALE:GREGORIAN
BEGIN:VEVENT
UID:criticalmass-one-detmold-1727524800
DTSTAMP:20260423T113126Z
SUMMARY:Critical Mass Detmold 28.09.2024
DTSTART;TZID=Europe/Berlin:20240928T140000
DTEND;TZID=Europe/Berlin:20240928T160000
LOCATION:Theater
GEO:51.937254;8.878713
URL;VALUE=URI:https://criticalmass.in/detmold/2024-09-28
END:VEVENT
END:VCALENDAR
