BEGIN:VCALENDAR
VERSION:2.0
PRODID:-//Sabre//Sabre VObject 4.5.8//EN
CALSCALE:GREGORIAN
BEGIN:VEVENT
UID:criticalmass-one-detmold-1719662400
DTSTAMP:20260424T092104Z
SUMMARY:Critical Mass Detmold 29.06.2024
DTSTART;TZID=Europe/Berlin:20240629T140000
DTEND;TZID=Europe/Berlin:20240629T160000
LOCATION:Theater
GEO:51.937254;8.878713
URL;VALUE=URI:https://criticalmass.in/detmold/2024-06-29
END:VEVENT
END:VCALENDAR
