BEGIN:VCALENDAR
VERSION:2.0
PRODID:-//Sabre//Sabre VObject 4.5.8//EN
CALSCALE:GREGORIAN
BEGIN:VEVENT
UID:criticalmass-one-detmold-1708779600
DTSTAMP:20260424T180911Z
SUMMARY:Critical Mass Detmold 24.02.2024 - Gegen das Vergessen und für die
  Menschlichkeit
DESCRIPTION:Lasst uns dieses Mal für die Menschlichkeit und gegen das Verg
 essen unterwegs sein ! Antisemitismus\, Rassismus\, und Ausgrenzung jeglic
 her Art dürfen bei uns keinen Platz haben !
DTSTART;TZID=Europe/Berlin:20240224T140000
DTEND;TZID=Europe/Berlin:20240224T160000
LOCATION:Theater
GEO:51.937254;8.878713
URL;VALUE=URI:https://criticalmass.in/detmold/2024-02-24
END:VEVENT
END:VCALENDAR
