BEGIN:VCALENDAR
VERSION:2.0
PRODID:-//Sabre//Sabre VObject 4.5.8//EN
CALSCALE:GREGORIAN
BEGIN:VEVENT
UID:criticalmass-one-detmold-1693051200
DTSTAMP:20260423T171546Z
SUMMARY:Critical Mass Detmold 26.08.2023
DTSTART;TZID=Europe/Berlin:20230826T140000
DTEND;TZID=Europe/Berlin:20230826T160000
LOCATION:Theater
GEO:51.937254;8.878713
URL;VALUE=URI:https://criticalmass.in/detmold/2023-08-26
END:VEVENT
END:VCALENDAR
