BEGIN:VCALENDAR
VERSION:2.0
PRODID:-//Sabre//Sabre VObject 4.5.8//EN
CALSCALE:GREGORIAN
BEGIN:VEVENT
UID:criticalmass-one-detmold-1690632000
DTSTAMP:20260423T154618Z
SUMMARY:Critical Mass Detmold 29.07.2023
DTSTART;TZID=Europe/Berlin:20230729T140000
DTEND;TZID=Europe/Berlin:20230729T160000
LOCATION:Theater
GEO:51.937254;8.878713
URL;VALUE=URI:https://criticalmass.in/detmold/2023-07-29
END:VEVENT
END:VCALENDAR
