BEGIN:VCALENDAR
VERSION:2.0
PRODID:-//Sabre//Sabre VObject 4.5.8//EN
CALSCALE:GREGORIAN
BEGIN:VEVENT
UID:criticalmass-one-detmold-1616850000
DTSTAMP:20260423T204230Z
SUMMARY:Critical Mass Detmold 27.03.2021
DTSTART;TZID=Europe/Berlin:20210327T140000
DTEND;TZID=Europe/Berlin:20210327T160000
LOCATION:Theater
GEO:51.937254;8.878713
URL;VALUE=URI:https://criticalmass.in/detmold/2021-03-27
END:VEVENT
END:VCALENDAR
