BEGIN:VCALENDAR
VERSION:2.0
PRODID:-//Sabre//Sabre VObject 4.5.8//EN
CALSCALE:GREGORIAN
BEGIN:VEVENT
UID:criticalmass-one-detmold-1606564800
DTSTAMP:20260423T173343Z
SUMMARY:Critical Mass Detmold 28.11.2020
DTSTART;TZID=Europe/Berlin:20201128T130000
DTEND;TZID=Europe/Berlin:20201128T150000
LOCATION:Theater
GEO:51.937254;8.878713
URL;VALUE=URI:https://criticalmass.in/detmold/2020-11-28
END:VEVENT
END:VCALENDAR
