BEGIN:VCALENDAR
VERSION:2.0
PRODID:-//Sabre//Sabre VObject 4.5.8//EN
CALSCALE:GREGORIAN
BEGIN:VEVENT
UID:criticalmass-one-des-moines-1769864400
DTSTAMP:20260424T033548Z
SUMMARY:Alex Pretti Memorial Ride — Lance Harris
DESCRIPTION:Meet at Union Park at 1 p.m. for 1:30 p.m. roll-out\; 7-mile ri
 de to Iowa State Capital
DTSTART;TZID=America/Chicago:20260131T070000
DTEND;TZID=America/Chicago:20260131T090000
LOCATION:Union Park\, Des Moines
GEO:41.612374;-93.608778
URL;VALUE=URI:https://criticalmass.in/des-moines/alex-pretti-memorial-ride-
 des-moines-2026-01-31
END:VEVENT
END:VCALENDAR
