BEGIN:VCALENDAR
VERSION:2.0
PRODID:-//Sabre//Sabre VObject 4.5.8//EN
CALSCALE:GREGORIAN
BEGIN:VEVENT
UID:criticalmass-one-des-moines-1769864400
DTSTAMP:20260423T131418Z
SUMMARY:Alex Pretti Memorial Ride — Dylan Lyons
DESCRIPTION:This Saturday at 1:00 PM\, join the Des Moines cycling communit
 y for a memorial ride from Union Park to the Iowa State Capitol and back.
DTSTART;TZID=America/Chicago:20260131T070000
DTEND;TZID=America/Chicago:20260131T090000
LOCATION:Union Park\, Des Moines
GEO:41.614366;-93.610606
URL;VALUE=URI:https://criticalmass.in/des-moines/alex-pretti-memorial-ride-
 des-moines-2026-01-31-2
END:VEVENT
END:VCALENDAR
