BEGIN:VCALENDAR
VERSION:2.0
PRODID:-//Sabre//Sabre VObject 4.5.8//EN
CALSCALE:GREGORIAN
BEGIN:VEVENT
UID:criticalmass-one-denver-1769886000
DTSTAMP:20260422T075004Z
SUMMARY:Alex Pretti Memorial Ride Denver — Denver Bicycle Lobby
DESCRIPTION:Meet\n  at the Martin Luther King Memorial at 12 p.m. for 12:30
  p.m. roll-out.
DTSTART;TZID=America/Denver:20260131T120000
DTEND;TZID=America/Denver:20260131T140000
LOCATION:Martin Luther King Memorial\, Denver
GEO:39.746149;-104.954514
URL;VALUE=URI:https://criticalmass.in/denver/alex-pretti-memorial-ride-denv
 er-2026-01-31
END:VEVENT
END:VCALENDAR
