BEGIN:VCALENDAR
VERSION:2.0
PRODID:-//Sabre//Sabre VObject 4.5.8//EN
CALSCALE:GREGORIAN
BEGIN:VEVENT
UID:criticalmass-one-delmenhorst-1771610400
DTSTAMP:20260422T202436Z
SUMMARY:10. Critical Mass Delmenhorst
DESCRIPTION:Jeden vorletzten Freitag im Monat
DTSTART;TZID=Europe/Berlin:20260220T190000
DTEND;TZID=Europe/Berlin:20260220T210000
LOCATION:Wasserturm am Rathaus
GEO:53.048095;8.628607
URL;VALUE=URI:https://criticalmass.in/delmenhorst/2026-02-20
END:VEVENT
END:VCALENDAR
