BEGIN:VCALENDAR
VERSION:2.0
PRODID:-//Sabre//Sabre VObject 4.5.8//EN
CALSCALE:GREGORIAN
BEGIN:VEVENT
UID:criticalmass-one-delmenhorst-1763748000
DTSTAMP:20260423T101243Z
SUMMARY:7. Critical Mass Delmenhorst 21.11.2025
DTSTART;TZID=Europe/Berlin:20251121T190000
DTEND;TZID=Europe/Berlin:20251121T210000
LOCATION:Rathaus Delmenhorst / Wasserturm
GEO:53.048095;8.628607
URL;VALUE=URI:https://criticalmass.in/delmenhorst/2025-11-21
END:VEVENT
END:VCALENDAR
