BEGIN:VCALENDAR
VERSION:2.0
PRODID:-//Sabre//Sabre VObject 4.5.8//EN
CALSCALE:GREGORIAN
BEGIN:VEVENT
UID:criticalmass-one-delmenhorst-1755882000
DTSTAMP:20260422T100409Z
SUMMARY:4. Critical Mass Delmenhorst 22.08.2025
DTSTART;TZID=Europe/Berlin:20250822T190000
DTEND;TZID=Europe/Berlin:20250822T210000
LOCATION:Rathaus Delmenhorst / Wasserturm
GEO:53.047692;8.627636
URL;VALUE=URI:https://criticalmass.in/delmenhorst/2025-08-22
END:VEVENT
END:VCALENDAR
