BEGIN:VCALENDAR
VERSION:2.0
PRODID:-//Sabre//Sabre VObject 4.5.8//EN
CALSCALE:GREGORIAN
BEGIN:VEVENT
UID:criticalmass-one-delmenhorst-1752858000
DTSTAMP:20260425T034259Z
SUMMARY:Dritte Delmenhorster Critical Mass
DESCRIPTION:Wir sind der Verkehr! Fahrt mit!
DTSTART;TZID=Europe/Berlin:20250718T190000
DTEND;TZID=Europe/Berlin:20250718T210000
LOCATION:Rathaus Delmenhorst / Wasserturm
GEO:53.048095;8.628607
URL;VALUE=URI:https://criticalmass.in/delmenhorst/2025-07-18
END:VEVENT
END:VCALENDAR
