BEGIN:VCALENDAR
VERSION:2.0
PRODID:-//Sabre//Sabre VObject 4.5.8//EN
CALSCALE:GREGORIAN
BEGIN:VEVENT
UID:criticalmass-one-delmenhorst-1750438800
DTSTAMP:20260423T193119Z
SUMMARY:Zweite Delmenhorster Critical Mass
DESCRIPTION:Wir sind der Verkehr! Fahrt mit!
DTSTART;TZID=Europe/Berlin:20250620T190000
DTEND;TZID=Europe/Berlin:20250620T210000
LOCATION:Rathaus Delmenhorst / Wasserturm
GEO:53.047743;8.627523
URL;VALUE=URI:https://criticalmass.in/delmenhorst/2025-06-20
END:VEVENT
END:VCALENDAR
