BEGIN:VCALENDAR
VERSION:2.0
PRODID:-//Sabre//Sabre VObject 4.5.8//EN
CALSCALE:GREGORIAN
BEGIN:VEVENT
UID:criticalmass-one-delmenhorst-1748019600
DTSTAMP:20260421T225347Z
SUMMARY:Erste Delmenhorster Critical Mass
DESCRIPTION:Wir behindern nicht den Verkehr - Wir sind der Verkehr!
DTSTART;TZID=Europe/Berlin:20250523T190000
DTEND;TZID=Europe/Berlin:20250523T210000
LOCATION:Rathaus Delmenhorst / Wasserturm
GEO:53.047739;8.627490
URL;VALUE=URI:https://criticalmass.in/delmenhorst/2025-05-23
END:VEVENT
END:VCALENDAR
