BEGIN:VCALENDAR
VERSION:2.0
PRODID:-//Sabre//Sabre VObject 4.5.8//EN
CALSCALE:GREGORIAN
BEGIN:VEVENT
UID:criticalmass-one-darmstadt-1664112600
DTSTAMP:20260423T025828Z
SUMMARY:Kidical Mass Darmstadt 25.09.2022
DTSTART;TZID=Europe/Berlin:20220925T153000
DTEND;TZID=Europe/Berlin:20220925T173000
LOCATION:Karolinenplatz
GEO:49.875141;8.654506
URL;VALUE=URI:https://criticalmass.in/darmstadt/kidical-mass-darmstadt-sept
 ember-2022
END:VEVENT
END:VCALENDAR
