BEGIN:VCALENDAR
VERSION:2.0
PRODID:-//Sabre//Sabre VObject 4.5.8//EN
CALSCALE:GREGORIAN
BEGIN:VEVENT
UID:criticalmass-one-darmstadt-1632058200
DTSTAMP:20260423T091301Z
SUMMARY:Kidical Mass Darmstadt 19.09.2021
DTSTART;TZID=Europe/Berlin:20210919T153000
DTEND;TZID=Europe/Berlin:20210919T173000
LOCATION:Karolinenplatz
GEO:49.875141;8.654506
URL;VALUE=URI:https://criticalmass.in/darmstadt/kidical-mass-darmstadt-sept
 ember-2021
END:VEVENT
END:VCALENDAR
