BEGIN:VCALENDAR
VERSION:2.0
PRODID:-//Sabre//Sabre VObject 4.5.8//EN
CALSCALE:GREGORIAN
BEGIN:VEVENT
UID:criticalmass-one-darmstadt-1683468000
DTSTAMP:20260424T050842Z
SUMMARY:Kidical Mass Darmstadt 07.05.2023
DTSTART;TZID=Europe/Berlin:20230507T160000
DTEND;TZID=Europe/Berlin:20230507T180000
LOCATION:Ludwigsplatz
GEO:49.870815;8.654073
URL;VALUE=URI:https://criticalmass.in/darmstadt/kidical-mass-darmstadt-mai-
 2023
END:VEVENT
END:VCALENDAR
