BEGIN:VCALENDAR
VERSION:2.0
PRODID:-//Sabre//Sabre VObject 4.5.8//EN
CALSCALE:GREGORIAN
BEGIN:VEVENT
UID:criticalmass-one-darmstadt-1765562400
DTSTAMP:20260423T190009Z
SUMMARY:Critical Mass Darmstadt 12.12.2025
DTSTART;TZID=Europe/Berlin:20251212T190000
DTEND;TZID=Europe/Berlin:20251212T210000
LOCATION:Vorplatz Darmstadtium\, da durch Weihnachtsmarkt blockiert
GEO:49.872539;8.655291
URL;VALUE=URI:https://criticalmass.in/darmstadt/2025-12-12
END:VEVENT
END:VCALENDAR
