BEGIN:VCALENDAR
VERSION:2.0
PRODID:-//Sabre//Sabre VObject 4.5.8//EN
CALSCALE:GREGORIAN
BEGIN:VEVENT
UID:criticalmass-one-darmstadt-1746810000
DTSTAMP:20260422T172451Z
SUMMARY:Critical Mass Darmstadt 09.05.2025
DTSTART;TZID=Europe/Berlin:20250509T190000
DTEND;TZID=Europe/Berlin:20250509T210000
LOCATION:Marktplatz
GEO:49.872539;8.655291
URL;VALUE=URI:https://criticalmass.in/darmstadt/2025-05-09
END:VEVENT
END:VCALENDAR
