BEGIN:VCALENDAR
VERSION:2.0
PRODID:-//Sabre//Sabre VObject 4.5.8//EN
CALSCALE:GREGORIAN
BEGIN:VEVENT
UID:criticalmass-one-darmstadt-1691773200
DTSTAMP:20260423T190031Z
SUMMARY:Critical Mass Darmstadt 11.08.2023
DTSTART;TZID=Europe/Berlin:20230811T190000
DTEND;TZID=Europe/Berlin:20230811T210000
LOCATION:Marktplatz
GEO:49.872539;8.655291
URL;VALUE=URI:https://criticalmass.in/darmstadt/2023-08-11
END:VEVENT
END:VCALENDAR
