BEGIN:VCALENDAR
VERSION:2.0
PRODID:-//Sabre//Sabre VObject 4.5.8//EN
CALSCALE:GREGORIAN
BEGIN:VEVENT
UID:criticalmass-one-darmstadt-1660323600
DTSTAMP:20260422T143240Z
SUMMARY:Critical Mass Darmstadt 12.08.2022
DTSTART;TZID=Europe/Berlin:20220812T190000
DTEND;TZID=Europe/Berlin:20220812T210000
LOCATION:Marktplatz
GEO:49.872539;8.655291
URL;VALUE=URI:https://criticalmass.in/darmstadt/2022-08-12
END:VEVENT
END:VCALENDAR
