BEGIN:VCALENDAR
VERSION:2.0
PRODID:-//Sabre//Sabre VObject 4.5.8//EN
CALSCALE:GREGORIAN
BEGIN:VEVENT
UID:criticalmass-one-darmstadt-1636740000
DTSTAMP:20260423T131114Z
SUMMARY:Critical Mass Darmstadt 12.11.2021
DTSTART;TZID=Europe/Berlin:20211112T190000
DTEND;TZID=Europe/Berlin:20211112T210000
LOCATION:Marktplatz
GEO:49.872539;8.655291
URL;VALUE=URI:https://criticalmass.in/darmstadt/2021-11-12
END:VEVENT
END:VCALENDAR
