BEGIN:VCALENDAR
VERSION:2.0
PRODID:-//Sabre//Sabre VObject 4.5.8//EN
CALSCALE:GREGORIAN
BEGIN:VEVENT
UID:criticalmass-one-darmstadt-1628874000
DTSTAMP:20260424T092155Z
SUMMARY:Critical Mass Darmstadt 13.08.2021
DTSTART;TZID=Europe/Berlin:20210813T190000
DTEND;TZID=Europe/Berlin:20210813T210000
LOCATION:Marktplatz
GEO:49.872539;8.655291
URL;VALUE=URI:https://criticalmass.in/darmstadt/2021-08-13
END:VEVENT
END:VCALENDAR
