BEGIN:VCALENDAR
VERSION:2.0
PRODID:-//Sabre//Sabre VObject 4.5.8//EN
CALSCALE:GREGORIAN
BEGIN:VEVENT
UID:criticalmass-one-darmstadt-1623430800
DTSTAMP:20260422T081551Z
SUMMARY:Critical Mass Darmstadt 11.06.2021
DTSTART;TZID=Europe/Berlin:20210611T190000
DTEND;TZID=Europe/Berlin:20210611T210000
LOCATION:Marktplatz
GEO:49.872539;8.655291
URL;VALUE=URI:https://criticalmass.in/darmstadt/2021-06-11
END:VEVENT
END:VCALENDAR
