BEGIN:VCALENDAR
VERSION:2.0
PRODID:-//Sabre//Sabre VObject 4.5.8//EN
CALSCALE:GREGORIAN
BEGIN:VEVENT
UID:criticalmass-one-darmstadt-1615572000
DTSTAMP:20260423T113524Z
SUMMARY:Critical Mass Darmstadt 12.03.2021
DTSTART;TZID=Europe/Berlin:20210312T190000
DTEND;TZID=Europe/Berlin:20210312T210000
LOCATION:Marktplatz
GEO:49.872539;8.655291
URL;VALUE=URI:https://criticalmass.in/darmstadt/2021-03-12
END:VEVENT
END:VCALENDAR
