BEGIN:VCALENDAR
VERSION:2.0
PRODID:-//Sabre//Sabre VObject 4.5.8//EN
CALSCALE:GREGORIAN
BEGIN:VEVENT
UID:criticalmass-one-darmstadt-1613152800
DTSTAMP:20260422T162242Z
SUMMARY:Critical Mass Darmstadt 12.02.2021
DTSTART;TZID=Europe/Berlin:20210212T190000
DTEND;TZID=Europe/Berlin:20210212T210000
LOCATION:Marktplatz
GEO:49.872539;8.655291
URL;VALUE=URI:https://criticalmass.in/darmstadt/2021-02-12
END:VEVENT
END:VCALENDAR
