BEGIN:VCALENDAR
VERSION:2.0
PRODID:-//Sabre//Sabre VObject 4.5.8//EN
CALSCALE:GREGORIAN
BEGIN:VEVENT
UID:criticalmass-one-darmstadt-1597424400
DTSTAMP:20260421T224339Z
SUMMARY:Critical Mass Darmstadt 14.08.2020
DTSTART;TZID=Europe/Berlin:20200814T190000
DTEND;TZID=Europe/Berlin:20200814T210000
LOCATION:Marktplatz
GEO:49.872539;8.655291
URL;VALUE=URI:https://criticalmass.in/darmstadt/2020-08-14
END:VEVENT
END:VCALENDAR
