BEGIN:VCALENDAR
VERSION:2.0
PRODID:-//Sabre//Sabre VObject 4.5.8//EN
CALSCALE:GREGORIAN
BEGIN:VEVENT
UID:criticalmass-one-darmstadt-1573236000
DTSTAMP:20260422T113957Z
SUMMARY:Critical Mass Darmstadt 08.11.2019
DTSTART;TZID=Europe/Berlin:20191108T190000
DTEND;TZID=Europe/Berlin:20191108T210000
LOCATION:Marktplatz
GEO:49.872539;8.655291
URL;VALUE=URI:https://criticalmass.in/darmstadt/2019-11-08
END:VEVENT
END:VCALENDAR
