BEGIN:VCALENDAR
VERSION:2.0
PRODID:-//Sabre//Sabre VObject 4.5.8//EN
CALSCALE:GREGORIAN
BEGIN:VEVENT
UID:criticalmass-one-darmstadt-1539363600
DTSTAMP:20260421T225048Z
SUMMARY:Critical Mass Darmstadt 12.10.2018
DTSTART;TZID=Europe/Berlin:20181012T190000
DTEND;TZID=Europe/Berlin:20181012T210000
LOCATION:Marktplatz
GEO:49.872539;8.655291
URL;VALUE=URI:https://criticalmass.in/darmstadt/2018-10-12
END:VEVENT
END:VCALENDAR
