BEGIN:VCALENDAR
VERSION:2.0
PRODID:-//Sabre//Sabre VObject 4.5.8//EN
CALSCALE:GREGORIAN
BEGIN:VEVENT
UID:criticalmass-one-darmstadt-1531501200
DTSTAMP:20260423T200713Z
SUMMARY:Critical Mass Darmstadt 13.07.2018
DTSTART;TZID=Europe/Berlin:20180713T190000
DTEND;TZID=Europe/Berlin:20180713T210000
LOCATION:Marktplatz
GEO:49.872539;8.655291
URL;VALUE=URI:https://criticalmass.in/darmstadt/2018-07-13
END:VEVENT
END:VCALENDAR
