BEGIN:VCALENDAR
VERSION:2.0
PRODID:-//Sabre//Sabre VObject 4.5.8//EN
CALSCALE:GREGORIAN
BEGIN:VEVENT
UID:criticalmass-one-darmstadt-1528477200
DTSTAMP:20260422T114004Z
SUMMARY:Critical Mass Darmstadt 08.06.2018
DTSTART;TZID=Europe/Berlin:20180608T190000
DTEND;TZID=Europe/Berlin:20180608T210000
LOCATION:Marktplatz
GEO:49.872539;8.655291
URL;VALUE=URI:https://criticalmass.in/darmstadt/2018-06-08
END:VEVENT
END:VCALENDAR
