BEGIN:VCALENDAR
VERSION:2.0
PRODID:-//Sabre//Sabre VObject 4.5.8//EN
CALSCALE:GREGORIAN
BEGIN:VEVENT
UID:criticalmass-one-darmstadt-1518199200
DTSTAMP:20260423T112943Z
SUMMARY:Critical Mass Darmstadt 09.02.2018
DTSTART;TZID=Europe/Berlin:20180209T190000
DTEND;TZID=Europe/Berlin:20180209T210000
LOCATION:Marktplatz
GEO:49.872539;8.655291
URL;VALUE=URI:https://criticalmass.in/darmstadt/2018-02-09
END:VEVENT
END:VCALENDAR
