BEGIN:VCALENDAR
VERSION:2.0
PRODID:-//Sabre//Sabre VObject 4.5.8//EN
CALSCALE:GREGORIAN
BEGIN:VEVENT
UID:criticalmass-one-darmstadt-1510336800
DTSTAMP:20260425T152333Z
SUMMARY:Critical Mass Darmstadt 10.11.2017
DTSTART;TZID=Europe/Berlin:20171110T190000
DTEND;TZID=Europe/Berlin:20171110T210000
LOCATION:Marktplatz
GEO:49.872539;8.655291
URL;VALUE=URI:https://criticalmass.in/darmstadt/2017-11-10
END:VEVENT
END:VCALENDAR
