BEGIN:VCALENDAR
VERSION:2.0
PRODID:-//Sabre//Sabre VObject 4.5.8//EN
CALSCALE:GREGORIAN
BEGIN:VEVENT
UID:criticalmass-one-darmstadt-1507914000
DTSTAMP:20260423T154343Z
SUMMARY:Critical Mass Darmstadt 13.10.2017
DTSTART;TZID=Europe/Berlin:20171013T190000
DTEND;TZID=Europe/Berlin:20171013T210000
LOCATION:Marktplatz
GEO:49.872539;8.655291
URL;VALUE=URI:https://criticalmass.in/darmstadt/2017-10-13
END:VEVENT
END:VCALENDAR
