BEGIN:VCALENDAR
VERSION:2.0
PRODID:-//Sabre//Sabre VObject 4.5.8//EN
CALSCALE:GREGORIAN
BEGIN:VEVENT
UID:criticalmass-one-darmstadt-1504890000
DTSTAMP:20260422T031201Z
SUMMARY:Critical Mass Darmstadt 08.09.2017
DTSTART;TZID=Europe/Berlin:20170908T190000
DTEND;TZID=Europe/Berlin:20170908T210000
LOCATION:Marktplatz
GEO:49.872539;8.655291
URL;VALUE=URI:https://criticalmass.in/darmstadt/2017-09-08
END:VEVENT
END:VCALENDAR
