BEGIN:VCALENDAR
VERSION:2.0
PRODID:-//Sabre//Sabre VObject 4.5.8//EN
CALSCALE:GREGORIAN
BEGIN:VEVENT
UID:criticalmass-one-darmstadt-1494608400
DTSTAMP:20260423T064927Z
SUMMARY:Critical Mass Darmstadt 12.05.2017
DTSTART;TZID=Europe/Berlin:20170512T190000
DTEND;TZID=Europe/Berlin:20170512T210000
LOCATION:Marktplatz
GEO:49.872539;8.655291
URL;VALUE=URI:https://criticalmass.in/darmstadt/2017-05-12
END:VEVENT
END:VCALENDAR
