BEGIN:VCALENDAR
VERSION:2.0
PRODID:-//Sabre//Sabre VObject 4.5.8//EN
CALSCALE:GREGORIAN
BEGIN:VEVENT
UID:criticalmass-one-darmstadt-1492189200
DTSTAMP:20260423T064727Z
SUMMARY:Critical Mass Darmstadt 14.04.2017
DTSTART;TZID=Europe/Berlin:20170414T190000
DTEND;TZID=Europe/Berlin:20170414T210000
LOCATION:Marktplatz
GEO:49.872539;8.655291
URL;VALUE=URI:https://criticalmass.in/darmstadt/2017-04-14
END:VEVENT
END:VCALENDAR
