BEGIN:VCALENDAR
VERSION:2.0
PRODID:-//Sabre//Sabre VObject 4.5.8//EN
CALSCALE:GREGORIAN
BEGIN:VEVENT
UID:criticalmass-one-darmstadt-1484326800
DTSTAMP:20260423T212234Z
SUMMARY:Critical Mass Darmstadt 13.01.2017
DTSTART;TZID=Europe/Berlin:20170113T180000
DTEND;TZID=Europe/Berlin:20170113T200000
LOCATION:Marktplatz
GEO:49.872539;8.655291
URL;VALUE=URI:https://criticalmass.in/darmstadt/2017-01-13
END:VEVENT
END:VCALENDAR
