BEGIN:VCALENDAR
VERSION:2.0
PRODID:-//Sabre//Sabre VObject 4.5.8//EN
CALSCALE:GREGORIAN
BEGIN:VEVENT
UID:criticalmass-one-darmstadt-1473440400
DTSTAMP:20260423T113006Z
SUMMARY:Critical Mass Darmstadt 09.09.2016
DTSTART;TZID=Europe/Berlin:20160909T190000
DTEND;TZID=Europe/Berlin:20160909T210000
LOCATION:Marktplatz
GEO:49.872539;8.655291
URL;VALUE=URI:https://criticalmass.in/darmstadt/2016-09-09
END:VEVENT
END:VCALENDAR
